BEGIN:VCALENDAR
VERSION:2.0
PRODID:-//NAWIC - ECPv6.5.1.3//NONSGML v1.0//EN
CALSCALE:GREGORIAN
METHOD:PUBLISH
X-ORIGINAL-URL:https://nawicspokane.org
X-WR-CALDESC:Events for NAWIC
REFRESH-INTERVAL;VALUE=DURATION:PT1H
X-Robots-Tag:noindex
X-PUBLISHED-TTL:PT1H
BEGIN:VTIMEZONE
TZID:America/Denver
BEGIN:DAYLIGHT
TZOFFSETFROM:-0700
TZOFFSETTO:-0600
TZNAME:MDT
DTSTART:20260308T090000
END:DAYLIGHT
BEGIN:STANDARD
TZOFFSETFROM:-0600
TZOFFSETTO:-0700
TZNAME:MST
DTSTART:20261101T080000
END:STANDARD
END:VTIMEZONE
BEGIN:VEVENT
DTSTART;TZID=America/Denver:20260810T080000
DTEND;TZID=America/Denver:20260815T170000
DTSTAMP:20260422T063937
CREATED:20260122T002827Z
LAST-MODIFIED:20260122T002827Z
UID:1916-1786348800-1786813200@nawicspokane.org
SUMMARY:71st Annual NAWIC Conference
DESCRIPTION:
URL:https://nawicspokane.org/event/71st-annual-nawic-conference/
LOCATION:Reno\, NV
END:VEVENT
BEGIN:VEVENT
DTSTART;VALUE=DATE:20260828
DTEND;VALUE=DATE:20260829
DTSTAMP:20260422T063937
CREATED:20260329T211029Z
LAST-MODIFIED:20260329T211029Z
UID:1997-1787875200-1787961599@nawicspokane.org
SUMMARY:41st Annual Golf Tournament
DESCRIPTION:
URL:https://nawicspokane.org/event/41st-annual-golf-tournament/
LOCATION:Highlands Golf Course\, 500 East Mullen Avenue\, Post Falls\, Idaho
END:VEVENT
BEGIN:VEVENT
DTSTART;TZID=America/Denver:20261014T100000
DTEND;TZID=America/Denver:20261017T110000
DTSTAMP:20260422T063937
CREATED:20260122T002443Z
LAST-MODIFIED:20260122T003241Z
UID:1913-1791972000-1792234800@nawicspokane.org
SUMMARY:Regional Pacific Northwest - Fall Conference 2026 - Boise ID
DESCRIPTION:
URL:https://nawicspokane.org/event/pnw-region-fall-conference-2026-boise-id/
LOCATION:Boise\, ID\, Boise
END:VEVENT
END:VCALENDAR